BEGIN:VCALENDAR
VERSION:2.0
PRODID:-//jEvents 2.0 for Joomla//EN
CALSCALE:GREGORIAN
METHOD:PUBLISH
BEGIN:VEVENT
UID:6ae62338380bed802124cba24d8c862b
CATEGORIES:Tischtennis
CREATED:20190208T203104
SUMMARY:Tischtennis U18: TTV Pleidelsheim 2 - TVA 2
DESCRIPTION:
DTSTAMP:20260420T142613
DTSTART:20190302T100000
DTEND:20190302T120000
SEQUENCE:0
TRANSP:OPAQUE
END:VEVENT
END:VCALENDAR