BEGIN:VCALENDAR
VERSION:2.0
PRODID:-//jEvents 2.0 for Joomla//EN
CALSCALE:GREGORIAN
METHOD:PUBLISH
BEGIN:VEVENT
UID:b28740d8e72af9f14a073adb0647f4bd
CATEGORIES:Fußball Aktive extern
CREATED:20190731T121720
SUMMARY:Fußball: TVA I - TSV Schwieberdingen
DESCRIPTION:
DTSTAMP:20260424T042102
DTSTART:20190927T193000
DTEND:20190927T210000
SEQUENCE:0
TRANSP:OPAQUE
END:VEVENT
END:VCALENDAR