BEGIN:VCALENDAR
VERSION:2.0
PRODID:-//jEvents 2.0 for Joomla//EN
CALSCALE:GREGORIAN
METHOD:PUBLISH
BEGIN:VEVENT
UID:35873737ee655d80e223108831c06a89
CATEGORIES:Tischtennis extern
CREATED:20190816T223049
SUMMARY:Tischtennis: SV Pattonville - TVA 2
DESCRIPTION:
DTSTAMP:20260422T185911
DTSTART:20191102T170000
DTEND:20191102T200000
SEQUENCE:0
TRANSP:OPAQUE
END:VEVENT
END:VCALENDAR