BEGIN:VCALENDAR
VERSION:2.0
PRODID:-//jEvents 2.0 for Joomla//EN
CALSCALE:GREGORIAN
METHOD:PUBLISH
BEGIN:VEVENT
UID:dd5962169ccf972b4c09fcc6b170ec41
CATEGORIES:Tischtennis
CREATED:20190816T224747
SUMMARY:Tischtennis Sen40: TV Enzberg - TVA
DESCRIPTION:
DTSTAMP:20260423T132110
DTSTART:20191106T200000
DTEND:20191106T220000
SEQUENCE:0
TRANSP:OPAQUE
END:VEVENT
END:VCALENDAR