BEGIN:VCALENDAR
VERSION:2.0
PRODID:-//jEvents 2.0 for Joomla//EN
CALSCALE:GREGORIAN
METHOD:PUBLISH
BEGIN:VEVENT
UID:90a3db658cd9de408de0fc9cfeecdd6b
CATEGORIES:Tischtennis extern
CREATED:20190816T232307
SUMMARY:Tischtennis U18: TVA 3 - TSV Bietigheim 2
LOCATION:Pattonville
DESCRIPTION:
DTSTAMP:20260424T200530
DTSTART:20190921T140000
DTEND:20190921T160000
SEQUENCE:0
TRANSP:OPAQUE
END:VEVENT
END:VCALENDAR