BEGIN:VCALENDAR
VERSION:2.0
PRODID:-//jEvents 2.0 for Joomla//EN
CALSCALE:GREGORIAN
METHOD:PUBLISH
BEGIN:VEVENT
UID:6d047b0afc9ed0be1eb3e091b6240590
CATEGORIES:Handball extern
CREATED:20190912T125121
SUMMARY:Handball: TVA 1 - EK Besigheim
LOCATION:Sporthalle Regental
DESCRIPTION:
DTSTAMP:20260425T103848
DTSTART:20200118T200000
DTEND:20200118T211500
SEQUENCE:0
TRANSP:OPAQUE
END:VEVENT
END:VCALENDAR