BEGIN:VCALENDAR
VERSION:2.0
PRODID:-//jEvents 2.0 for Joomla//EN
CALSCALE:GREGORIAN
METHOD:PUBLISH
BEGIN:VEVENT
UID:e7398b3a580d0b94736ee585d0da0c77
CATEGORIES:Handball extern
CREATED:20190912T125229
SUMMARY:Handball: TVA 2 - TSV Oberriex. 2
LOCATION:Sporthalle Regental
DESCRIPTION:
DTSTAMP:20260423T023213
DTSTART:20200118T180000
DTEND:20200118T194500
SEQUENCE:0
TRANSP:OPAQUE
END:VEVENT
END:VCALENDAR