BEGIN:VCALENDAR
VERSION:2.0
PRODID:-//jEvents 2.0 for Joomla//EN
CALSCALE:GREGORIAN
METHOD:PUBLISH
BEGIN:VEVENT
UID:f9bd215250a3537df841b1cb1f7635c6
CATEGORIES:Handball extern
CREATED:20190912T130450
SUMMARY:Handball: TVA 2 - TV Markgrön. 2
LOCATION:Sporthalle Regental
DESCRIPTION:
DTSTAMP:20260423T205113
DTSTART:20200301T184500
DTEND:20200301T200000
SEQUENCE:0
TRANSP:OPAQUE
END:VEVENT
END:VCALENDAR