BEGIN:VCALENDAR
VERSION:2.0
PRODID:-//jEvents 2.0 for Joomla//EN
CALSCALE:GREGORIAN
METHOD:PUBLISH
BEGIN:VEVENT
UID:c9d466e364bf07a8f25033ba6597f810
CATEGORIES:Tischtennis
CREATED:20191206T093809
SUMMARY:TT-Abteilungsversammlung
LOCATION:Paradiso
DESCRIPTION:
DTSTAMP:20260423T021812
DTSTART:20191219T200000
DTEND:20191219T213000
SEQUENCE:0
TRANSP:OPAQUE
END:VEVENT
END:VCALENDAR