BEGIN:VCALENDAR
VERSION:2.0
PRODID:-//jEvents 2.0 for Joomla//EN
CALSCALE:GREGORIAN
METHOD:PUBLISH
BEGIN:VEVENT
UID:24e749579668e705ab2a6195b741c765
CATEGORIES:Tischtennis extern
CREATED:20200105T182430
SUMMARY:Tischtennis Sen40: TVA - TTC Bietigheim-Bissingen
LOCATION:Pattonville
DESCRIPTION:
DTSTAMP:20260425T144612
DTSTART:20200221T200000
DTEND:20200221T220000
SEQUENCE:0
TRANSP:OPAQUE
END:VEVENT
END:VCALENDAR