BEGIN:VCALENDAR
VERSION:2.0
PRODID:-//jEvents 2.0 for Joomla//EN
CALSCALE:GREGORIAN
METHOD:PUBLISH
BEGIN:VEVENT
UID:66946ce6ecce4f6fa94a73c64e32c317
CATEGORIES:Tischtennis
CREATED:20200105T223319
SUMMARY:Tischtennis U18: TSV Bietigheim 2 - TVA 3
DESCRIPTION:
DTSTAMP:20260419T160423
DTSTART:20200208T140000
DTEND:20200208T160000
SEQUENCE:0
TRANSP:OPAQUE
END:VEVENT
END:VCALENDAR