BEGIN:VCALENDAR
VERSION:2.0
PRODID:-//jEvents 2.0 for Joomla//EN
CALSCALE:GREGORIAN
METHOD:PUBLISH
BEGIN:VEVENT
UID:c17c668ee7e12bc8438c4f2ea41c724f
CATEGORIES:Fußball Aktive extern
CREATED:20200114T120024
SUMMARY:Fußball: TVA -  SV Gebersheim
DESCRIPTION:
DTSTAMP:20260423T094434
DTSTART:20200308T153000
DTEND:20200308T170000
SEQUENCE:0
TRANSP:OPAQUE
END:VEVENT
END:VCALENDAR