BEGIN:VCALENDAR
VERSION:2.0
PRODID:-//jEvents 2.0 for Joomla//EN
CALSCALE:GREGORIAN
METHOD:PUBLISH
BEGIN:VEVENT
UID:3a4ec1d547b1e7a7f36a3324c4634db1
CATEGORIES:Tischtennis extern
CREATED:20200119T212619
SUMMARY:Tischtennis Pokal Herren: TVA 1 - TTA 08 Mühlacker
LOCATION:Pattonville
DESCRIPTION:
DTSTAMP:20260426T011803
DTSTART:20200212T200000
DTEND:20200212T220000
SEQUENCE:0
TRANSP:OPAQUE
END:VEVENT
END:VCALENDAR