BEGIN:VCALENDAR
VERSION:2.0
PRODID:-//jEvents 2.0 for Joomla//EN
CALSCALE:GREGORIAN
METHOD:PUBLISH
BEGIN:VEVENT
UID:d7ae88bb6146106bbf8684f6402733a9
CATEGORIES:Tischtennis
CREATED:20200125T224104
SUMMARY:TT-Abteilungsversammlung
LOCATION:Paradiso
DESCRIPTION:<div class=""><span style="font-size: 12pt;">Die Tagesordnung sieht folgend
 es vor:</span></div><div class=""><span style="font-size: 12pt;"></span></d
 iv><div class=""><span style="font-size: 12pt;">1. Begrüßung</span></div><d
 iv class=""><span style="font-size: 12pt;">2. Bericht über die Vereinsratsi
 tzung vom 15.01.2020</span></div><div class=""><span style="font-size: 12pt
 ;">3. Wahlen&nbsp;</span></div><div class=""><span style="font-size: 12pt;"
 >4. Sonstiges</span></div><div class=""><span style="font-size: 12pt;"></sp
 an></div>
DTSTAMP:20260423T004736
DTSTART:20200130T200000
DTEND:20200130T220000
SEQUENCE:0
TRANSP:OPAQUE
END:VEVENT
END:VCALENDAR