BEGIN:VCALENDAR
VERSION:2.0
PRODID:-//jEvents 2.0 for Joomla//EN
CALSCALE:GREGORIAN
METHOD:PUBLISH
BEGIN:VEVENT
UID:178c2322ecd372566f86e0a253387106
CATEGORIES:Tischtennis
CREATED:20200921T134442
SUMMARY:Tischtennis: TTG Marbach-Rielingshausen 3 - TVA 2
DESCRIPTION:
DTSTAMP:20260422T134022
DTSTART:20201025T090000
DTEND:20201025T120000
SEQUENCE:0
TRANSP:OPAQUE
END:VEVENT
END:VCALENDAR