BEGIN:VCALENDAR
VERSION:2.0
PRODID:-//jEvents 2.0 for Joomla//EN
CALSCALE:GREGORIAN
METHOD:PUBLISH
BEGIN:VEVENT
UID:035f92bd0e8c54cf41005477c267d3ad
CATEGORIES:Fußball Aktive extern
CREATED:20210804T120209
SUMMARY:Fußball: TVA -  SV Gebersheim
DESCRIPTION:
DTSTAMP:20260426T002203
DTSTART:20210829T150000
DTEND:20210829T170000
SEQUENCE:0
TRANSP:OPAQUE
END:VEVENT
END:VCALENDAR