BEGIN:VCALENDAR
VERSION:2.0
PRODID:-//jEvents 2.0 for Joomla//EN
CALSCALE:GREGORIAN
METHOD:PUBLISH
BEGIN:VEVENT
UID:23b1e21c67a938df829f2ff5db00f222
CATEGORIES:Fußball Aktive extern
CREATED:20210804T122727
SUMMARY:Fußball: TVA II -  SV Pattonville
DESCRIPTION:
DTSTAMP:20260423T025918
DTSTART:20211024T130000
DTEND:20211024T150000
SEQUENCE:0
TRANSP:OPAQUE
END:VEVENT
END:VCALENDAR