BEGIN:VCALENDAR
VERSION:2.0
PRODID:-//jEvents 2.0 for Joomla//EN
CALSCALE:GREGORIAN
METHOD:PUBLISH
BEGIN:VEVENT
UID:91a4f5bac445c04dbab84904ac7e3394
CATEGORIES:Tischtennis
CREATED:20210909T223845
SUMMARY:Tischtennis S40: TTG Marbach-Rielingshausen - TVA
DESCRIPTION:
DTSTAMP:20260425T173939
DTSTART:20211130T203000
DTEND:20211130T223000
SEQUENCE:0
TRANSP:OPAQUE
END:VEVENT
END:VCALENDAR