BEGIN:VCALENDAR
VERSION:2.0
PRODID:-//jEvents 2.0 for Joomla//EN
CALSCALE:GREGORIAN
METHOD:PUBLISH
BEGIN:VEVENT
UID:5632d33e7f5b1716a36b768c0990b34e
CATEGORIES:Tischtennis
CREATED:20210909T225146
SUMMARY:Tischtennis Herren: TSV Schwieberdingen 2 - TVA 2
DESCRIPTION:
DTSTAMP:20260426T002003
DTSTART:20211009T180000
DTEND:20211009T210000
SEQUENCE:0
TRANSP:OPAQUE
END:VEVENT
END:VCALENDAR