BEGIN:VCALENDAR
VERSION:2.0
PRODID:-//jEvents 2.0 for Joomla//EN
CALSCALE:GREGORIAN
METHOD:PUBLISH
BEGIN:VEVENT
UID:7a6fb66bdf3d37d6b01ebb99056aa7e9
CATEGORIES:Tischtennis
CREATED:20210909T225309
SUMMARY:Tischtennis Herren: KSG Gerlingen 3 - TVA 2
DESCRIPTION:
DTSTAMP:20260423T103119
DTSTART:20211104T183000
DTEND:20211104T213000
SEQUENCE:0
TRANSP:OPAQUE
END:VEVENT
END:VCALENDAR