BEGIN:VCALENDAR
VERSION:2.0
PRODID:-//jEvents 2.0 for Joomla//EN
CALSCALE:GREGORIAN
METHOD:PUBLISH
BEGIN:VEVENT
UID:ccbdcb5926131a020cae266df7525d9d
CATEGORIES:Tischtennis
CREATED:20210909T225809
SUMMARY:Tischtennis Herren: TTV Freudental 3 - TVA 3
DESCRIPTION:
DTSTAMP:20260420T214436
DTSTART:20211009T140000
DTEND:20211009T170000
SEQUENCE:0
TRANSP:OPAQUE
END:VEVENT
END:VCALENDAR