BEGIN:VCALENDAR
VERSION:2.0
PRODID:-//jEvents 2.0 for Joomla//EN
CALSCALE:GREGORIAN
METHOD:PUBLISH
BEGIN:VEVENT
UID:ddd3711a6d7823c9fc7f345b9fdf9318
CATEGORIES:Fußball Aktive extern
CREATED:20220107T144648
SUMMARY:Fußball: TVA II - TSV Grünbühl
DESCRIPTION:
DTSTAMP:20260419T125841
DTSTART:20220220T120000
DTEND:20220220T140000
SEQUENCE:0
TRANSP:OPAQUE
END:VEVENT
END:VCALENDAR