BEGIN:VCALENDAR
VERSION:2.0
PRODID:-//jEvents 2.0 for Joomla//EN
CALSCALE:GREGORIAN
METHOD:PUBLISH
BEGIN:VEVENT
UID:5af5a3800149e3b68ae2b9ffc2ad49eb
CATEGORIES:Fußball Aktive extern
CREATED:20220727T122904
SUMMARY:Fußball: TVA-GSV Pleidelsheim 
DESCRIPTION:
DTSTAMP:20260423T081808
DTSTART:20220925T150000
DTEND:20220925T170000
SEQUENCE:0
TRANSP:OPAQUE
END:VEVENT
END:VCALENDAR