BEGIN:VCALENDAR
VERSION:2.0
PRODID:-//jEvents 2.0 for Joomla//EN
CALSCALE:GREGORIAN
METHOD:PUBLISH
BEGIN:VEVENT
UID:66ec7b6401d8e05a16a6532177663132
CATEGORIES:Fußball Aktive extern
CREATED:20220908T103159
SUMMARY:Fußball: TVA II -  TSV Asperg
DESCRIPTION:
DTSTAMP:20260424T131031
DTSTART:20221023T130000
DTEND:20221023T150000
SEQUENCE:0
TRANSP:OPAQUE
END:VEVENT
END:VCALENDAR