BEGIN:VCALENDAR
VERSION:2.0
PRODID:-//jEvents 2.0 for Joomla//EN
CALSCALE:GREGORIAN
METHOD:PUBLISH
BEGIN:VEVENT
UID:372bf28f66538dd8087fc06a7a90b7c9
CATEGORIES:Fußball Aktive extern
CREATED:20220908T103518
SUMMARY:Fußball Frauen: TVA - TSV Münchingen III 
DESCRIPTION:
DTSTAMP:20260420T184355
DTSTART:20221106T103000
DTEND:20221106T120000
SEQUENCE:0
TRANSP:OPAQUE
END:VEVENT
END:VCALENDAR