BEGIN:VCALENDAR
VERSION:2.0
PRODID:-//jEvents 2.0 for Joomla//EN
CALSCALE:GREGORIAN
METHOD:PUBLISH
BEGIN:VEVENT
UID:290cfa608f6b024ded58587dffeb1537
CATEGORIES:Tischtennis extern
CREATED:20220925T150457
SUMMARY:Tischtennis: J19 TVA IV - TUG Hofen II
LOCATION:Pattonville
DESCRIPTION:
CONTACT:Alf
DTSTAMP:20260420T155148
DTSTART:20221119T110000
DTEND:20221119T130000
SEQUENCE:0
TRANSP:OPAQUE
END:VEVENT
END:VCALENDAR