BEGIN:VCALENDAR
VERSION:2.0
PRODID:-//jEvents 2.0 for Joomla//EN
CALSCALE:GREGORIAN
METHOD:PUBLISH
BEGIN:VEVENT
UID:dd4b73fcf221de9235f73526596e3630
CATEGORIES:Tischtennis extern
CREATED:20220925T150940
SUMMARY:Tischtennis: J13 TVA V - RKV-06 Neckarweihingen
LOCATION:Pattonville
DESCRIPTION:
CONTACT:Marco
DTSTAMP:20260426T011548
DTSTART:20221126T140000
DTEND:20221126T160000
SEQUENCE:0
TRANSP:OPAQUE
END:VEVENT
END:VCALENDAR