BEGIN:VCALENDAR
VERSION:2.0
PRODID:-//jEvents 2.0 for Joomla//EN
CALSCALE:GREGORIAN
METHOD:PUBLISH
BEGIN:VEVENT
UID:ab835ce260a1ebc50186f7ef42ebd4e4
CATEGORIES:Tischtennis extern
CREATED:20220925T154405
SUMMARY:Tischtennis: J19 TVA III - SpVgg Besigheim
LOCATION:Pattonville
DESCRIPTION:
CONTACT:Dome
DTSTAMP:20260422T095324
DTSTART:20230401T140000
DTEND:20230401T160000
SEQUENCE:0
TRANSP:OPAQUE
END:VEVENT
END:VCALENDAR