BEGIN:VCALENDAR
VERSION:2.0
PRODID:-//jEvents 2.0 for Joomla//EN
CALSCALE:GREGORIAN
METHOD:PUBLISH
BEGIN:VEVENT
UID:1717b564363cdb4b01c743bcfa669b23
CATEGORIES:Tischtennis extern
CREATED:20220925T154556
SUMMARY:Tischtennis: J19 TVA II - TTV Erdmannhausen II
LOCATION:Pattonville
DESCRIPTION:
CONTACT:Marco
DTSTAMP:20260425T105645
DTSTART:20230422T110000
DTEND:20230422T130000
SEQUENCE:0
TRANSP:OPAQUE
END:VEVENT
END:VCALENDAR