BEGIN:VCALENDAR
VERSION:2.0
PRODID:-//jEvents 2.0 for Joomla//EN
CALSCALE:GREGORIAN
METHOD:PUBLISH
BEGIN:VEVENT
UID:3f00fd1327ab3e59b2ac83b53743b753
CATEGORIES:Fußball Aktive extern
CREATED:20230119T163458
SUMMARY:Fußball: TVA II - FV Ingersheim 
DESCRIPTION:
DTSTAMP:20260422T115317
DTSTART:20230529T130000
DTEND:20230529T150000
SEQUENCE:0
TRANSP:OPAQUE
END:VEVENT
END:VCALENDAR