BEGIN:VCALENDAR
VERSION:2.0
PRODID:-//jEvents 2.0 for Joomla//EN
CALSCALE:GREGORIAN
METHOD:PUBLISH
BEGIN:VEVENT
UID:fd2941427a2198ea78fa067c99ee7de9
CATEGORIES:Fußball Aktive extern
CREATED:20230124T112657
SUMMARY:Fußball FS: TVA - NK Croatia Bietigheim
DESCRIPTION:
DTSTAMP:20260424T131839
DTSTART:20230129T143000
DTEND:20230129T160000
SEQUENCE:0
TRANSP:OPAQUE
END:VEVENT
END:VCALENDAR