BEGIN:VCALENDAR
VERSION:2.0
PRODID:-//jEvents 2.0 for Joomla//EN
CALSCALE:GREGORIAN
METHOD:PUBLISH
BEGIN:VEVENT
UID:26de073284f2b7b7cda7572c324d87a5
CATEGORIES:Tischtennis extern
CREATED:20230911T162427
SUMMARY:Tischtennis J19: TVA II - TV Markgröningen IIIa
LOCATION:Pattonville
DESCRIPTION:
DTSTAMP:20260424T030641
DTSTART:20240120T110000
DTEND:20240120T130000
SEQUENCE:0
TRANSP:OPAQUE
END:VEVENT
END:VCALENDAR