BEGIN:VCALENDAR
VERSION:2.0
PRODID:-//jEvents 2.0 for Joomla//EN
CALSCALE:GREGORIAN
METHOD:PUBLISH
BEGIN:VEVENT
UID:8c5762d956c40799852d075e87d6a3a5
CATEGORIES:Tischtennis extern
CREATED:20230911T170139
SUMMARY:Tischtennis J19: TVA III - TSG Steinheim II
LOCATION:Pattonville
DESCRIPTION:
DTSTAMP:20260423T114438
DTSTART:20231202T140000
DTEND:20231202T160000
SEQUENCE:0
TRANSP:OPAQUE
END:VEVENT
END:VCALENDAR