BEGIN:VCALENDAR
VERSION:2.0
PRODID:-//jEvents 2.0 for Joomla//EN
CALSCALE:GREGORIAN
METHOD:PUBLISH
BEGIN:VEVENT
UID:f339f4d6baf59a0da0ce773014253998
CATEGORIES:Tischtennis
CREATED:20230911T173758
SUMMARY:Tischtennis Herren: TSG Steinheim II - TVA
DESCRIPTION:
DTSTAMP:20260420T003611
DTSTART:20231021T183000
DTEND:20231021T213000
SEQUENCE:0
TRANSP:OPAQUE
END:VEVENT
END:VCALENDAR