BEGIN:VCALENDAR
VERSION:2.0
PRODID:-//jEvents 2.0 for Joomla//EN
CALSCALE:GREGORIAN
METHOD:PUBLISH
BEGIN:VEVENT
UID:80aaebbc030ddd70b6424fe4dc830562
CATEGORIES:Handball extern
CREATED:20230913T160429
SUMMARY:Handball Frauen Bezirksliga: TV Aldingen - HCOB Oppenweiler/Backnang 2
LOCATION::  Sporthalle Regental
DESCRIPTION:
DTSTAMP:20260419T231858
DTSTART:20231203T164500
SEQUENCE:0
TRANSP:OPAQUE
END:VEVENT
END:VCALENDAR