BEGIN:VCALENDAR
VERSION:2.0
PRODID:-//jEvents 2.0 for Joomla//EN
CALSCALE:GREGORIAN
METHOD:PUBLISH
BEGIN:VEVENT
UID:41a3c48b88e880eba6fb27ca1f4fb332
CATEGORIES:Tischtennis extern
CREATED:20160229T091146
SUMMARY:Tischtennis: TVA 1 - PSG Ludwigsburg 1
LOCATION:Pattonville
DESCRIPTION:
DTSTAMP:20260421T195831
DTSTART:20160306T090000
DTEND:20160306T120000
SEQUENCE:0
TRANSP:OPAQUE
END:VEVENT
END:VCALENDAR