BEGIN:VCALENDAR
VERSION:2.0
PRODID:-//jEvents 2.0 for Joomla//EN
CALSCALE:GREGORIAN
METHOD:PUBLISH
BEGIN:VEVENT
UID:0484cf893e7ca5f7bc7281f01de4b7d4
CATEGORIES:Tischtennis extern
CREATED:20160331T100235
SUMMARY:Tischtennis: TVA 4 - TSG Steinheim 5
LOCATION:Pattonville
DESCRIPTION:
DTSTAMP:20260424T073619
DTSTART:20160402T180000
DTEND:20160402T210000
SEQUENCE:0
TRANSP:OPAQUE
END:VEVENT
END:VCALENDAR