BEGIN:VCALENDAR
VERSION:2.0
PRODID:-//jEvents 2.0 for Joomla//EN
CALSCALE:GREGORIAN
METHOD:PUBLISH
BEGIN:VEVENT
UID:5026d5246100c104b8a0fb46dd8a061f
CATEGORIES:Tischtennis
CREATED:20160401T084950
SUMMARY:TT-Abteilungsversammlung
LOCATION:Paradiso
DESCRIPTION:<p><span style="color: rgb(255, 0, 0);"><strong></strong></span></p><p styl
 e="text-align: left;"><span style="text-decoration: underline; font-size: 1
 4pt;"><i><span style="font-family: &quot;Arial&quot;,&quot;sans-serif&quot;
 ;">T a g e s o r d n u n g</span></i></span></p><ol><li><strong></strong><s
 pan style="font-size: 12pt; font-family: &quot;Arial&quot;,&quot;sans-serif
 &quot;;">Protokoll der Abteilungsversammlung vom 29.1.2016 </span></li><li>
 <span style="font-size: 12pt;"><strong></strong><span style="font-family: &
 quot;Arial&quot;,&quot;sans-serif&quot;;">Anwesenheitsliste</span></span></
 li><li><span style="font-size: 12pt;"><strong></strong><span style="font-fa
 mily: &quot;Arial&quot;,&quot;sans-serif&quot;;">Terminplan der Abteilungsv
 eranstaltungen 2016 </span></span></li><li><span style="font-size: 12pt; fo
 nt-family: &quot;Arial&quot;,&quot;sans-serif&quot;;">Wahl des Protokollfüh
 rers -Abteilungsversammlungen-</span></li><li><span style="font-size: 12pt;
 "><strong></strong><span style="font-family: &quot;Arial&quot;,&quot;sans-s
 erif&quot;;">Sonstiges</span><span style="font-family: &quot;Arial&quot;,&q
 uot;sans-serif&quot;;"></span></span><span style="font-size: 14pt; font-fam
 ily: 'Arial','sans-serif';"> </span></li></ol>
X-EXTRAINFO:Es ist die erste Sitzung unter unserer neuen Abteilungsleitung!\nEs wird um
  zahlreiche Teilnahme gebeten!
DTSTAMP:20260426T033134
DTSTART:20160408T220000
DTEND:20160408T233000
SEQUENCE:0
TRANSP:OPAQUE
END:VEVENT
END:VCALENDAR