BEGIN:VCALENDAR
VERSION:2.0
PRODID:-//jEvents 2.0 for Joomla//EN
CALSCALE:GREGORIAN
METHOD:PUBLISH
BEGIN:VEVENT
UID:7bee86cc54c7a83a0f35ec8a8ce320d0
CATEGORIES:Tischtennis extern
CREATED:20160404T092943
SUMMARY:Tischtennis: SpVgg Besigheim 2 - TVA 4
DESCRIPTION:
DTSTAMP:20260424T123741
DTSTART:20160409T180000
DTEND:20160409T210000
SEQUENCE:0
TRANSP:OPAQUE
END:VEVENT
END:VCALENDAR