BEGIN:VCALENDAR
VERSION:2.0
PRODID:-//jEvents 2.0 for Joomla//EN
CALSCALE:GREGORIAN
METHOD:PUBLISH
BEGIN:VEVENT
UID:7924b6c707aec4e4643d1f93a5d8ed5e
CATEGORIES:Tischtennis extern
CREATED:20160411T103540
SUMMARY:Tischtennis Sen40: TVA - TSV Asperg 2
LOCATION:Pattonville
DESCRIPTION:
DTSTAMP:20260424T073436
DTSTART:20160415T200000
DTEND:20160415T220000
SEQUENCE:0
TRANSP:OPAQUE
END:VEVENT
END:VCALENDAR