BEGIN:VCALENDAR
VERSION:2.0
PRODID:-//jEvents 2.0 for Joomla//EN
CALSCALE:GREGORIAN
METHOD:PUBLISH
BEGIN:VEVENT
UID:20fd0facb7e343d568d08d5712f179ff
CATEGORIES:Tischtennis
CREATED:20161219T215817
SUMMARY:TT-Trainingsbeginn 2017
DESCRIPTION:
DTSTAMP:20260423T200219
DTSTART:20170111T173000
DTEND:20170111T220000
SEQUENCE:0
TRANSP:OPAQUE
END:VEVENT
END:VCALENDAR