BEGIN:VCALENDAR
VERSION:2.0
PRODID:-//jEvents 2.0 for Joomla//EN
CALSCALE:GREGORIAN
METHOD:PUBLISH
BEGIN:VEVENT
UID:abe04704680769a1a3e6e6549ad05474
CATEGORIES:Tischtennis extern
CREATED:20170115T112445
SUMMARY:Tischtennis U18-Pokal: TVA - TV Markgröningen 1
LOCATION:Pattonville
DESCRIPTION:<p style="margin-bottom: 0.0001pt; text-align: justify;"><span style="font-
 size: 14pt; font-family: 'Arial','sans-serif';"><span style="font-size: 12p
 t;">Schon am Freitag, <strong>20.1., </strong>19 Uhr, haben die U 18-Jungs 
 des TVA (Bezirksklasse) mit dem <strong>TV Markgröningen I </strong>einen f
 avorisierten Bezirksligisten zu Gast.</span> </span></p>
DTSTAMP:20260425T162657
DTSTART:20170120T190000
DTEND:20170120T210000
SEQUENCE:0
TRANSP:OPAQUE
END:VEVENT
END:VCALENDAR