BEGIN:VCALENDAR
VERSION:2.0
PRODID:-//jEvents 2.0 for Joomla//EN
CALSCALE:GREGORIAN
METHOD:PUBLISH
BEGIN:VEVENT
UID:51ef00385683e31dc0301bb117640dcc
CATEGORIES:Tischtennis extern
CREATED:20170123T085742
SUMMARY:Tischtennis U18: TVA - TV Markgröningen 2
LOCATION:Pattonville
DESCRIPTION:
DTSTAMP:20260425T193625
DTSTART:20170128T140000
DTEND:20170128T160000
SEQUENCE:0
TRANSP:OPAQUE
END:VEVENT
END:VCALENDAR