BEGIN:VCALENDAR
VERSION:2.0
PRODID:-//jEvents 2.0 for Joomla//EN
CALSCALE:GREGORIAN
METHOD:PUBLISH
BEGIN:VEVENT
UID:9c3f97d2a54a67b66d809092000547be
CATEGORIES:Tischtennis
CREATED:20170208T222847
SUMMARY:TVA-Mitgliederversammlung
LOCATION:Paradiso
DESCRIPTION:
DTSTAMP:20260424T110408
DTSTART:20170217T190000
DTEND:20170217T220000
SEQUENCE:0
TRANSP:OPAQUE
END:VEVENT
END:VCALENDAR