BEGIN:VCALENDAR
VERSION:2.0
PRODID:-//jEvents 2.0 for Joomla//EN
CALSCALE:GREGORIAN
METHOD:PUBLISH
BEGIN:VEVENT
UID:f7e8a2866b6b12e2527a7481a55ad012
CATEGORIES:Tischtennis extern
CREATED:20170313T141806
SUMMARY:Tischtennis U18: TVA - TSV Korntal 3
LOCATION:Pattonville
DESCRIPTION:
DTSTAMP:20260420T073714
DTSTART:20170318T140000
DTEND:20170318T160000
SEQUENCE:0
TRANSP:OPAQUE
END:VEVENT
END:VCALENDAR