BEGIN:VCALENDAR
VERSION:2.0
PRODID:-//jEvents 2.0 for Joomla//EN
CALSCALE:GREGORIAN
METHOD:PUBLISH
BEGIN:VEVENT
UID:8e63aeeeeaae2de961fbbce0806f06cd
CATEGORIES:Tischtennis
CREATED:20170403T091725
SUMMARY:Tischtennis U18: TGV Winzerhausen - TVA
DESCRIPTION:
DTSTAMP:20260419T215302
DTSTART:20170408T140000
DTEND:20170408T160000
SEQUENCE:0
TRANSP:OPAQUE
END:VEVENT
END:VCALENDAR