BEGIN:VCALENDAR
VERSION:2.0
PRODID:-//jEvents 2.0 for Joomla//EN
CALSCALE:GREGORIAN
METHOD:PUBLISH
BEGIN:VEVENT
UID:961dd5f9b68a0e991119daa0b1279756
CATEGORIES:Verein
CREATED:20171003T125225
SUMMARY:Jahresfeier
LOCATION:Gemeindehalle Aldingen
DESCRIPTION:
DTSTAMP:20260423T004456
DTSTART:20181110T193000
DTEND:20181110T230000
SEQUENCE:0
TRANSP:OPAQUE
END:VEVENT
END:VCALENDAR