BEGIN:VCALENDAR
VERSION:2.0
PRODID:-//jEvents 2.0 for Joomla//EN
CALSCALE:GREGORIAN
METHOD:PUBLISH
BEGIN:VEVENT
UID:36e51ad67650b869e904b164874b92d3
CATEGORIES:Tischtennis
CREATED:20171116T112034
SUMMARY:Tischtennis U18: TSV Bietigheim 1 - TVA
DESCRIPTION:
DTSTAMP:20260421T082555
DTSTART:20171118T130000
DTEND:20171118T150000
SEQUENCE:0
TRANSP:OPAQUE
END:VEVENT
END:VCALENDAR