BEGIN:VCALENDAR
VERSION:2.0
PRODID:-//jEvents 2.0 for Joomla//EN
CALSCALE:GREGORIAN
METHOD:PUBLISH
BEGIN:VEVENT
UID:35ef188c7397f733aa9a587cb9740337
CATEGORIES:Verein
CREATED:20171215T082713
SUMMARY:Vereinsrat
LOCATION:Paradiso
DESCRIPTION:
DTSTAMP:20260422T221340
DTSTART:20180126T200000
DTEND:20180126T220000
SEQUENCE:0
TRANSP:OPAQUE
END:VEVENT
END:VCALENDAR