BEGIN:VCALENDAR
VERSION:2.0
PRODID:-//jEvents 2.0 for Joomla//EN
CALSCALE:GREGORIAN
METHOD:PUBLISH
BEGIN:VEVENT
UID:3f3326c0202913466423b87cd2ae994d
CATEGORIES:Turnen esxtern
CREATED:20171217T111052
SUMMARY:Kinderjahresfeier
LOCATION:Gemeindehalle Aldingen
DESCRIPTION:<p>Einlass: 14.30 Uhr</p>
DTSTAMP:20260423T004852
DTSTART:20180318T153000
DTEND:20180318T173000
SEQUENCE:0
TRANSP:OPAQUE
END:VEVENT
END:VCALENDAR